BEGIN:VCALENDAR
VERSION:2.0
PRODID:-//hacksw/handcal//NONSGML v1.0//EN
BEGIN:VEVENT
SUMMARY:Marathon d'Amsterdam
UID:3a6e039a-5643-4e6c-890b-6daba0b9a0b9
DTSTART:20261017T220000Z
DTEND:20261018T220000Z
LOCATION:Localisation   
CATEGORIES:Sportif
STATUS:
URL;VALUE=URI:https://www.casl.fr/evenements/2026/10/18/marathon-damsterdam-2443478
END:VEVENT
END:VCALENDAR
