BEGIN:VCALENDAR
VERSION:2.0
PRODID:-//hacksw/handcal//NONSGML v1.0//EN
BEGIN:VEVENT
SUMMARY:Trail de mauves en vert
UID:4a2f79e4-cd9a-48be-8a44-9de9c2851b53
DTSTART:20261003T220000Z
DTEND:20261004T220000Z
LOCATION:Localisation   
CATEGORIES:Sportif
STATUS:
URL;VALUE=URI:https://www.casl.fr/evenements/2026/10/04/trail-de-mauves-en-vert-2438117
END:VEVENT
END:VCALENDAR
