BEGIN:VCALENDAR
VERSION:2.0
PRODID:-//hacksw/handcal//NONSGML v1.0//EN
BEGIN:VEVENT
SUMMARY:Les Foulees des Bords de Loire
UID:e5289a7e-ec3f-4cea-a401-b1621b7e9c66
DTSTART:20260620T220000Z
DTEND:20260621T220000Z
LOCATION:Localisation   
CATEGORIES:Sportif
STATUS:
URL;VALUE=URI:https://www.casl.fr/evenements/2026/06/21/les-foulees-des-bords-de-loire-2443512
END:VEVENT
END:VCALENDAR
