BEGIN:VCALENDAR
VERSION:2.0
PRODID:-//hacksw/handcal//NONSGML v1.0//EN
BEGIN:VEVENT
SUMMARY:21km et 5k de la Rochelle
UID:b238f0db-bb08-49e2-b7cd-26b3015ca275
DTSTART:20260328T230000Z
DTEND:20260329T230000Z
LOCATION:Localisation   
CATEGORIES:Sportif
STATUS:
URL;VALUE=URI:https://www.casl.fr/evenements/2026/03/29/21km-et-5k-de-la-rochelle-2431234
END:VEVENT
END:VCALENDAR
